BEGIN:VCALENDAR
VERSION:2.0
PRODID:-//jEvents 2.0 for Joomla//EN
CALSCALE:GREGORIAN
METHOD:PUBLISH
BEGIN:VTIMEZONE
TZID:America/Chicago
BEGIN:STANDARD
DTSTART:20241103T010000
RDATE:20250309T030000
TZOFFSETFROM:-0500
TZOFFSETTO:-0600
TZNAME:America/Chicago CST
END:STANDARD
BEGIN:STANDARD
DTSTART:20251102T010000
RDATE:20260308T030000
TZOFFSETFROM:-0500
TZOFFSETTO:-0600
TZNAME:America/Chicago CST
END:STANDARD
BEGIN:STANDARD
DTSTART:20261101T010000
RDATE:20270314T030000
TZOFFSETFROM:-0500
TZOFFSETTO:-0600
TZNAME:America/Chicago CST
END:STANDARD
BEGIN:STANDARD
DTSTART:20271107T010000
RDATE:20280312T030000
TZOFFSETFROM:-0500
TZOFFSETTO:-0600
TZNAME:America/Chicago CST
END:STANDARD
BEGIN:DAYLIGHT
DTSTART:20241002T090000
RDATE:20241103T010000
TZOFFSETFROM:-0600
TZOFFSETTO:-0500
TZNAME:America/Chicago CDT
END:DAYLIGHT
BEGIN:DAYLIGHT
DTSTART:20250309T030000
RDATE:20251102T010000
TZOFFSETFROM:-0600
TZOFFSETTO:-0500
TZNAME:America/Chicago CDT
END:DAYLIGHT
BEGIN:DAYLIGHT
DTSTART:20260308T030000
RDATE:20261101T010000
TZOFFSETFROM:-0600
TZOFFSETTO:-0500
TZNAME:America/Chicago CDT
END:DAYLIGHT
BEGIN:DAYLIGHT
DTSTART:20270314T030000
RDATE:20271107T010000
TZOFFSETFROM:-0600
TZOFFSETTO:-0500
TZNAME:America/Chicago CDT
END:DAYLIGHT
END:VTIMEZONE
BEGIN:VEVENT
UID:e1666255360761303@facebook.com
CATEGORIES:Austin Chapter
CREATED:20250811T215551
SUMMARY:12th Annual Fall Outdoor Expo
LOCATION:11380 TX-16 \, Llano\, TX\, United States\, Texas 78643
URL;VALUE=URI:https://texasrovers.com/component/jevents/eventdetail/92/-/12th-annual-fall
 -outdoor-expo?Itemid=839&amp;tmpl=component
DESCRIPTION:	Welcome everyone to the 2025 Texas Avid Outdoors Fall Outdoor Expo. We are
  the original and oldest overland event in Texas. Come spend the weekend wi
 th us in Llano Texas at the Oxford Ranch Campgrounds. Tickets will be avail
 able soon and will also be available at the gate as well. Come visit with o
 ur amazing sponsors and vendors and learn from our great presenters. Enter 
 to win prizes at our annual free raffle and hang out with like minded indiv
 iduals. If you haven't been before, then come see what you have been missin
 g. If you have been to one of our events, we gladly welcome you back! https
 ://www.facebook.com/events/1666255360761303/ This event was imported from: 
 https://texasrovers.com/component/jevents/eventdetail/92/-/12th-annual-fall
 -outdoor-expo?Itemid=839&amp;tmpl=component
X-ALT-DESC;FMTTYPE=text/html:	Welcome everyone to the 2025 Texas Avid Outdoors Fall Outdoor Expo. We are
  the original and oldest overland event in Texas. Come spend the weekend wi
 th us in Llano Texas at the Oxford Ranch Campgrounds. Tickets will be avail
 able soon and will also be available at the gate as well. Come visit with o
 ur amazing sponsors and vendors and learn from our great presenters. Enter 
 to win prizes at our annual free raffle and hang out with like minded indiv
 iduals. If you haven't been before, then come see what you have been missin
 g. If you have been to one of our events, we gladly welcome you back! <a hr
 ef="https://www.facebook.com/events/1666255360761303/">https://www.facebook
 .com/events/1666255360761303/</a> <a href="https://texasrovers.com/componen
 t/jevents/eventdetail/92/-/12th-annual-fall-outdoor-expo?Itemid=839&amp;tmp
 l=component">This event was imported from: https://texasrovers.com/componen
 t/jevents/eventdetail/92/-/12th-annual-fall-outdoor-expo?Itemid=839&amp;tmp
 l=component</a>DTSTAMP:20260419T134053
DTSTART;TZID=America/Chicago:20251003T090000
DTEND;TZID=America/Chicago:20251004T170000
SEQUENCE:0
TRANSP:OPAQUE
END:VEVENT
END:VCALENDAR